Workbook

Sheet Sheet1
E4: K V M HOSPITAL, CHERTHALA
B6: PROFIT & LOSS ACCOUNT FOR THE YEAR ENDED 31-3-2025
B8: PARTICULARS | E8: Rs. In lakhs | G8: PARTICULARS | J8: Rs. In lakhs
B11: OPENING STOCK | E11: 8991422.7 | G11: HOSPITAL COLLECTION | J11: =Sheet3!D25 -> 252623821
B12: DRUGS & CONSUMABLE PURCHASES | E12: =Sheet3!C45 -> 68782301 | G12: INDIRECT INCOME | J12: =Sheet3!D35 -> 2461006.4
B13: SALARY & ALLOWANCE | E13: =Sheet3!C68 -> 1.2283186e+08 | G13: CLOSING STOCK | J13: 8374243
B14: REPAIRS & MAINTENANCE | E14: =Sheet3!C82 -> 11474717
B15: HOSPITAL EXPENSES | E15: =Sheet3!C100 -> 5034927.4
B16: TELEPHONE,PRINTING & STATIONERY | E16: =Sheet3!C113 -> 3333213.3
B17: RATES,TAXES & INSURANCE | E17: =Sheet3!C126 -> 5059515
B18: TRAVELLING EXPENSES | E18: =Sheet3!C137 -> 1588046.1
B19: INTEREST & BANK CHARGES | E19: =Sheet3!C145 -> 58794.69
B20: ELECTRICITY CHARGES | E20: =Sheet3!C156 -> 5505841
B21: AMC CHARGES | E21: =Sheet3!C159 -> 1776038
B22: LAB CHARGES AND BIOPSY | E22: =Sheet3!C162 -> 2559999
B23: CLEANING & WASHING EXPENSES | E23: =Sheet3!C165 -> 1115733
B24: CYLINDER REFILLING CHARGES | E24: =Sheet3!C168 -> 3617099.2
B25: SECURITY CHARGES | E25: =Sheet3!C171 -> 1917862
B26: OTHER EXPENSES | E26: =Sheet3!C153 -> 368732
B27: DEPRECIATION | E27: =Sheet3!C174 -> 9056366
B28: NET PROFIT TRANSFERRED TO P&L
B29: APPROPRIATION ACCOUNT | E29: 10386601
B31: TOTAL | E31: =SUM(E11:E30) -> 2.6345907e+08 | G31: TOTAL | J31: =SUM(J11:J30) -> 2.6345907e+08
E33: 2.4922327e+08
E34: =E31-E33 -> 14235801
E36: K V M HOSPITAL, CHERTHALA
B38: PROFIT & LOSS APPROPRIATION ACCOUNT FOR THE YEAR ENDED 31-3-2025
B41: SALARY TO PARTNERS | E41: 16320000 | G41: NET PROFIT TRANSFERRED | J41: =E29 -> 10386601
G42: FROM P & L ACCOUNT
B44: NET PROFT TO BE SHARED | E44: 0 | G44: NET LOSS TO BE SHARED | J44: 5933399.1
B45: BY THE PARTNERS | G45: BY THE PARTNERS
B50: TOTAL | E50: =SUM(E41:E49) -> 16320000 | G50: TOTAL | J50: =SUM(J41:J49) -> 16320000
E64: K V M HOSPITAL, CHERTHALA
E66: BALANCE SHEET AS ON 31-3-2025
B69: LIABILITIES | E69: Rs. In lakhs | G69: ASSETS | J69: Rs. In lakhs
B71: CAPITAL ACCOUNT | E71: 1000000 | G71: FIXED ASSETS | J71: =Sheet2!C228 -> 59941672
B72: SUNDRY CREDITORS | E72: =Sheet2!D160 -> 18915708 | G72: DEPOSITS | J72: =Sheet2!C233 -> 1243527
B73: OTHER LIABILITIES | E73: =Sheet2!D170 -> 3329576 | G73: CASH , BANK AND INVESTMENTS | J73: =Sheet2!C271 -> 20323322
B74: BANK LOAN | E74: =Sheet2!D31 -> 945781 | G74: SUNDRY DEBTORS | J74: =Sheet2!C295 -> 10000518
B75: CURRENT ACCOUNT | E75: =Sheet2!D25 -> 86974557 | G75: OTHER ADVANCES | J75: =Sheet2!C321 -> 5348940.8
...

Sheet Sheet2
A2: K V M HOSPITAL, CHERTHALA 2024-25
A3: SCHEDULES FORMING PART OF THE BALANCE SHEET (31-3-2025)
A4: Particulars | C4: Dr. | D4: Cr.
A6: CAPITAL ACCOUNT
A8: DR. V V HARIDAS | C8: 0 | D8: 510000
A9: PADMARANI HARIDAS | C9: 0 | D9: 90000
A10: DR AISHWARIA HARIDAS | C10: 0 | D10: 100000
A11: DR. AVINASH HARIDAS | C11: 0 | D11: 250000
A12: TMMC | C12: 0 | D12: 50000
A14: TOTAL | B14: Rs. | C14: 0 | D14: =SUM(D8:D13) -> 1000000
A16: CURRENT ACCOUNT
A18: DR. V V HARIDAS | C18: 0 | D18: 87074707
A19: TMMC | C19: =O19 -> 0 | D19: 433743.24
A20: PADMARANI HARIDAS | C20: 0 | D20: 621738.63
A21: DR. AVINASH HARIDAS | C21: 2089575.9 | D21: =P21 -> 0
A22: DR AISHWARIA HARIDAS | C22: 0 | D22: 933944.49
A24: TOTAL | C24: =SUM(C19:C23) -> 2089575.9 | D24: =SUM(D18:D23) -> 89064133
A25: BALANCE | D25: =D24-C24 -> 86974557
A27: BANK LOAN
A29: SIB 120.652.1317 | C29: 0 | D29: 945781
A31: BALANCE | C31: 0 | D31: =SUM(D29:D30) -> 945781
A33: SUNDRY CREDITORS
A35: A.J.ASSOCIATES | C35: 0 | D35: 1400160
A36: ANS BIOMED | C36: 0 | D36: 55426
A37: ABN ASSOCIATES | C37: 0 | D37: 9543
A38: ABN MEDICAL SPECIALITIES | C38: 0 | D38: 954
A39: ARACKAL GAS AGENCIES | C39: 0 | D39: 746927.8
A40: APOLLO SURGICALS | C40: 0 | D40: 20643
A41: ALLIANCE HEALTH CARE | C41: 0 | D41: 28560
A42: ACCURA BIOMEDICAL SOLUTIONS | C42: 0 | D42: 12097
A43: ADAM SURGICALS | C43: 0 | D43: 3078
A44: ALIFE MEDICAL SYSTME | C44: 0 | D44: 1848
A45: APEX MEDICAL SUPPLIERS | C45: 0 | D45: 9025
A46: ARJOHUNT HEALTHCARE PVT LTD | C46: 0 | D46: 88107
... A158: ZEUS MEDICARE | C158: 0 | D158: 74445
A160: TOTAL | D160: =SUM(D35:D158) -> 18915708
A163: OTHER LIABILITIES
A165: JOB SECURITY DEPOSIT | C165: 0 | D165: 2665507
A166: RENT ADVANCE (SIB) | C166: 0 | D166: 15000
A167: OUTSTANDING EXPENSES | C167: 0 | D167: 413321
...

Sheet Sheet3
A2: K V M HOSPITAL, CHERTHALA 2024-25
A3: SCHEDULES FORMING PART OF THE PROFIT AND LOSS ACCOUNT (31-3-2025)
A5: DIRECT INCOME - HOSPITAL COLLECTION | C5: Dr. | D5: Cr.
A7: CONSULTATION CHARGES | C7: 0 | D7: 19077030
A8: REGISTRATION FEE | C8: 0 | D8: 2721020
A9: DENTISTRY PROCEDURES | C9: 0 | D9: 645650
A10: DOCTORS PROCEDURES | C10: 0 | D10: 2356142
A11: ECG | C11: 0 | D11: 1741544.2
A12: GENERAL PROCEDURE | C12: 0 | D12: 63456153
A13: IP REGISTRATION & VISIT CHARGES | C13: 0 | D13: 2725755
A14: NURSING CARE | C14: 0 | D14: 12273358
A15: OTHER CHARGES | C15: 0 | D15: 927807
A16: PHYSIOTHERAPY CHARGES | C16: 0 | D16: 175110
A17: POST OPERATIVE CHARGES | C17: 0 | D17: 1008650
A18: PROFESSIONAL FEE | C18: 0 | D18: 8703402
... A23: MEDICINE CHARGES | C23: 0 | D23: 76142982
A25: TOTAL | B25: Rs. | C25: 0 | D25: =SUM(D7:D24) -> 252623821
A28: INDIRECT INCOME
A30: RENT | C30: 0 | D30: 710000
A31: ATM RENT | C31: 0 | D31: 66508.44
A32: INTEREST ON IT REFUND | C32: 0 | D32: 67110
A33: INTEREST RECEIVED | C33: 0 | D33: 1617388
A35: TOTAL | B35: Rs. | C35: 0 | D35: =SUM(D30:D34) -> 2461006.4
A38: EXPENDITURE
A39: DRUGS & CONSUMABLE PURCHASES
A41: LAB CHEMICALS AND REAGENTS | C41: 6971828.5 | D41: 0
A42: ORTHO & SURGICAL MATERIALS | C42: 11649295 | D42: 0
A43: PURCHASE OF DRUGS | C43: 50161177 | D43: 0
A45: TOTAL | B45: Rs. | C45: =SUM(C41:C44) -> 68782301 | D45: 0
A48: SALARY AND ALLOWANCES
A50: SALARY TO ANAESTHETIST | C50: 491500 | D50: 0
A51: DOCTORS SALARY | C51: 9200585 | D51: 0
A52: EMPLOYEES STATE INSURANCE | C52: 494630 | D52: 0
A53: HOLIDAY WAGES | C53: 785978 | D53: 0
A54: NIGHT DUTY ALLOWANCE | C54: 119615 | D54: 0
A55: PROFESSIONAL CHARGES | C55: 53401817 | D55: 0
A56: FESTIVAL ALLOWANCE | C56: 798000 | D56: 0
A57: PROVIDENT FUND | C57: 2057504 | D57: 0
A58: SALARY TO DUTY DOCTORS | C58: 2925507 | D58: 0
A59: SALARY DA & ALLOWANCE | C59: 44426425 | D59: 0
...

Sheet Sheet4
C1: KVM HOSPITAL
B3: Bank reconciliation statement as on 31-3-2025
B5: BANK RECONCILIATION STATEMENTS AS ON 31-3-2025
A7: South indian bank C D account no. 0120073000051157
B9: Balance as per Ledger | F9: (db.) | H9: 108229.12
B11: Add: cheques issued but not presented
B12: ch.no | F12: amount
B13: 273966 | C13: wipro g e | E13: 45832 | F13: 86049
B14: 273967 | C14: wipro g e | E14: 45924 | F14: 86049
B15: 1273895 | C15: sankars | D15: 45771 | F15: 38531
B16: 1273987 | C16: LIC | D16: 45764 | F16: 500000
F17: =SUM(F13:F16) -> 710629 | H17: =F17 -> 710629
B19: Balance as per Pass book | F19: (cr.) | H19: =H17+H9 -> 818858.12
A22: South indian bank C D account no. 0120073000051182
B24: Balance as per Ledger | F24: db | H24: 267802.63
B26: Add: cheques issued but not presented
B27: ch.no | F27: amount
B28: 1280887 | C28: medi serv | D28: 45750 | F28: 102375
B29: 1280888 | C29: medi serv18-4 | D29: 45765 | F29: 102375
B30: =B29+1 -> 1280889 | C30: med serv | F30: 102375
B31: =B30+1 -> 1280890 | C31: med serv | F31: 102375
B32: =B31+1 -> 1280891 | C32: med serv | F32: 102374
B33: 1280893 | C33: tds | D33: 45751 | F33: 5985
B34: 1280894 | C34: tds | D34: 45755 | F34: 106595
B35: =B34+1 -> 1280895 | C35: tds | D35: 45755 | F35: 566429
B36: =B35+1 -> 1280896 | C36: tds | D36: 45755 | F36: 3583
B37: =B36+1 -> 1280897 | C37: tds | D37: 45755 | F37: 1094
B38: =B37+1 -> 1280898 | C38: tds | D38: 45755 | F38: 222500
B39: =B38+1 -> 1280899 | C39: tds | D39: 45755 | F39: 60000
B40: =B39+1 -> 1280900 | C40: tds | D40: 45755 | F40: 87500
B41: 1252602 | C41: anamdev | D41: 45752 | F41: 56000
B42: 1280879 | C42: bions | D42: 45768 | F42: 134250
B43: 1280881 | C43: bions | F43: 134250
B44: 1280882 | C44: pace mkt | D44: 45765 | F44: 46500
B45: 1280883 | C45: pace mkt | D45: 45769 | F45: 46500
B46: 1280884 | C46: pace mkt | F46: 46500
F48: =SUM(F28:F47) -> 2029560 | H48: =F48 -> 2029560
B50: Balance as per Pass book | F50: (cr.) | H50: =H48-H24 -> 1761757.4
A53: South indian bank C D account no. 0120073000051159
B55: Balance as per Ledger | F55: (db.) | H55: 1370645.3
...

Sheet Sheet15
A3: KVM HOSPITAL, CHERTHALA –DEPRECIATION SCHEDULE
A4: SUB SCHEDULES FORMING PARTS OF PROFIT AND LOSS ACCOUNT 2024-25
A5: NATURE OF ASSIST | B5: WDV AS ON | C5: additions during the | E5: Sales/ | F5: Balance as on | G5: Dep. rate | H5: Depreciation | I5: Dep. Half | J5: Total Depn. | K5: WDV as on 31-03-2023
B6: 44652 | C6: year >180 days<180 | E6: tranr | F6: 45016 | H6: full
A7: LAND
A8: Land | B8: 2821138 | C8: 0 | D8: 0 | F8: 2821138 | H8: 0 | J8: 0 | K8: 2821138
A9: Total | B9: 2821138 | C9: 0 | D9: 0 | F9: 2821138 | H9: 0 | J9: 0 | K9: 2821138
A11: BUILDING
A12: Road works | B12: 850179 | C12: 0 | F12: =B12+C12+D12 -> 850179 | G12: 0.1 | H12: =(B12+C12)*G12 -> 85017.9 | I12: =(D12*G12)/2 -> 0 | J12: =(H12+I12)+0.18929999996908 -> 85018.089 | K12: =F12-J12 -> 765160.91
A13: Building | B13: 7332902 | C13: 0 | D13: 0 | F13: =B13+C13+D13 -> 7332902 | G13: 0.1 | H13: =(B13+C13)*G13 -> 733290.2 | I13: =(D13*G13)/2 -> 0 | J13: =(H13+I13)+0.349199999123812 -> 733290.55 | K13: =F13-J13 -> 6599611.5
A14: Shopping complex clinic | B14: 11887 | C14: 0 | D14: 0 | F14: =B14+C14+D14 -> 11887 | G14: 0.1 | H14: =(B14+C14)*G14 -> 1188.7 | I14: =(D14*G14)/2 -> 0 | J14: =(H14+I14)+0.467599999999948 -> 1189.1676 | K14: =F14-J14 -> 10697.832
A15: Sewage treatment Plant | B15: 72692 | C15: 0 | D15: 0 | F15: =B15+C15+D15 -> 72692 | G15: 0.1 | H15: =(B15+C15)*G15 -> 7269.2 | I15: =(D15*G15)/2 -> 0 | J15: =(H15+I15)+-0.253799999991315 -> 7268.9462 | K15: =F15-J15 -> 65423.054
A16: Biogas Plant | B16: 62615 | C16: 0 | D16: 0 | F16: =B16+C16+D16 -> 62615 | G16: 0.1 | H16: =(B16+C16)*G16 -> 6261.5 | I16: =(D16*G16)/2 -> 0 | J16: =H16 -> 6261.5 | K16: =F16-J16 -> 56353.5
A17: Total | B17: =SUM(B12:B16) -> 8330275 | C17: =SUM(C12:C16) -> 0 | D17: =SUM(D12:D16) -> 0 | E17: =SUM(E12:E16) -> 0 | F17: =SUM(F12:F16) -> 8330275 | H17: =SUM(H12:H16) -> 833027.5 | I17: =SUM(I12:I16) -> 0 | J17: =SUM(J12:J16) -> 833028.25 | K17: =SUM(K12:K16) -> 7497246.7
A18: COMPUTER
A19: Computer | B19: 140356 | C19: 85500 | D19: 0 | F19: =B19+C19+D19 -> 225856 | G19: 0.4 | H19: =(B19+C19)*G19 -> 90342.4 | I19: =(D19*G19)/2 -> 0 | J19: =H19 -> 90342.4 | K19: =F19-J19 -> 135513.6
A20: Total | B20: =+B19 -> 140356 | C20: =+C19 -> 85500 | F20: =SUM(F19) -> 225856 | H20: =H19 -> 90342.4 | J20: =J19 -> 90342.4 | K20: =SUM(K19) -> 135513.6
A22: FURNITURE & FITTINGS
A23: furniture & fittings | B23: 961931 | D23: 0 | E23: 0 | F23: =B23++C23+D23 -> 961931 | G23: 0.1 | H23: =(B23+C23)*G23 -> 96193.1 | I23: =(D23*G23)/2 -> 0 | J23: =(H23+I23)+-0.230399999883957 -> 96192.87 | K23: =F23-J23 -> 865738.13
A24: Kone Lift | B24: 60012 | F24: =B24++C24+D24 -> 60012 | G24: 0.1 | H24: =(B24+C24)*G24 -> 6001.2 | I24: =(D24*G24)/2 -> 0 | J24: =(H24+I24)+0.10669999998936 -> 6001.3067 | K24: =F24-J24 -> 54010.693
A25: Lift- Axiomata | B25: 479977 | C25: 0 | D25: 0 | F25: =B25++C25+D25 -> 479977 | G25: 0.1 | H25: =(B25+C25)*G25 -> 47997.7 | I25: =(D25*G25)/2 -> 0 | J25: =(H25+I25)+0.457100000116043 -> 47998.157 | K25: =F25-J25 -> 431978.84
A26: Lift- Infra Elevators | B26: 423738 | C26: 0 | D26: 0 | F26: =B26++C26+D26 -> 423738 | G26: 0.1 | H26: =(B26+C26)*G26 -> 42373.8 | I26: =(D26*G26)/2 -> 0 | J26: =(H26+I26)+0 -> 42373.8 | K26: =F26-J26 -> 381364.2
A28: Total | B28: =SUM(B23:B27) -> 1925658 | C28: =SUM(C23:C27) -> 0 | D28: =SUM(D23:D27) -> 0 | E28: =SUM(E23:E27) -> 0 | F28: =SUM(F23:F27) -> 1925658 | H28: =SUM(H23:H27) -> 192565.8 | J28: =SUM(J23:J27) -> 192566.13 | K28: =SUM(K23:K27) -> 1733091.9
A30: PLANT AND MACH.
A31: Machinery & Equipments | B31: 29959009 | C31: 3273442 | D31: 2868854 | E31: 0 | F31: =B31+C31+D31 -> 36101305 | G31: 0.15 | H31: =(B31+C31)*G31 -> 4984867.6 | I31: =(D31*G31)/2 -> 215164.05 | J31: =H31+I31 -> 5200031.7 | K31: =F31-J31 -> 30901273
A32: C T. Scanner | B32: 2758898 | C32: 0 | F32: =B32+C32+D32 -> 2758898 | G32: 0.15 | H32: =(B32+C32)*G32 -> 413834.7 | I32: =(D32*G32)/2 -> 0 | J32: =H32+I32 -> 413834.7 | K32: =F32-J32 -> 2345063.3
A33: Air Conditioner | B33: 352024 | C33: 0 | D33: 0 | F33: =B33+C33+D33 -> 352024 | G33: 0.15 | H33: =(B33+C33)*G33 -> 52803.6 | I33: =(D33*G33)/2 -> 0 | J33: =(H33+I33)+0.257699999987381 -> 52803.858 | K33: =F33-J33 -> 299220.14
A34: Electrical Fittings | B34: 12485 | C34: 0 | D34: 0 | E34: 0 | F34: =B34+C34+D34 -> 12485 | G34: 0.15 | H34: =(B34+C34)*G34 -> 1872.75 | I34: =(D34*G34)/2 -> 0 | J34: =(H34+I34)+0.0336499999993976 -> 1872.7836 | K34: =F34-J34 -> 10612.216
A35: Cathlab machine | B35: 2684682 | D35: 0 | E35: 0 | F35: =B35+C35+D35 -> 2684682 | G35: 0.15 | H35: =(B35+C35)*G35 -> 402702.3 | I35: =(D35*G35)/2 -> 0 | J35: =H35 -> 402702.3 | K35: =F35-J35 -> 2281979.7
A36: 40KV solar power pjt | B36: 579977 | C36: 0 | D36: 0 | F36: =B36+C36+D36 -> 579977 | G36: 0.15 | H36: =(B36+C36)*G36 -> 86996.55 | I36: =(D36*G36)/2 -> 0 | J36: =(H36+I36)+0.456225000089034 -> 86997.006 | K36: =F36-J36 -> 492979.99
A37: Fire fighting system | B37: 2351948 | C37: 0 | F37: =B37+C37+D37 -> 2351948 | G37: 0.15 | H37: =(B37+C37)*G37 -> 352792.2 | I37: =(D37*G37)/2 -> 0 | J37: =(H37+I37)+0.237499999813735 -> 352792.44 | K37: =F37-J37 -> 1999155.6
A38: Office Equipments | B38: 514089 | C38: 0 | D38: 0 | F38: =B38+C38+D38 -> 514089 | G38: 0.15 | H38: =(B38+C38)*G38 -> 77113.35 | I38: =(D38*G38)/2 -> 0 | J38: =H38 -> 77113.35 | K38: =F38-J38 -> 436975.65
A39: Incinerator and chimney | B39: 616250 | F39: =B39+C39+D39 -> 616250 | G39: 0.15 | H39: =(B39+C39)*G39 -> 92437.5 | J39: =(H39+I39)+0.25 -> 92437.75 | K39: =F39-J39 -> 523812.25
A41: Total | B41: =SUM(B31:B39) -> 39829362 | C41: =SUM(C31:C38) -> 3273442 | D41: =SUM(D31:D38) -> 2868854 | E41: =SUM(E31:E38) -> 0 | F41: =SUM(F31:F39) -> 45971658 | H41: 6465422 | I41: =SUM(I31:I40) -> 215164.05 | J41: =SUM(J31:J40) -> 6680585.9 | K41: =SUM(K31:K40) -> 39291072
A43: VEHICLE
A44: KL32H 4100 BMW | B44: 1218207 | F44: =B44+C44-E44 -> 1218207 | G44: 0.15 | H44: =F44*G44 -> 182731.05 | I44: =(D44*G44)/2 -> 0 | J44: =(+H44)+0.0102750000078231 -> 182731.06 | K44: =F44-J44 -> 1035475.9
A45: Nexon car | B45: 923107 | F45: =B45+C45-E45 -> 923107 | G45: 0.15 | H45: =F45*G45 -> 138466.05 | I45: =(D45*G45)/2 -> 0 | J45: =(+H45)+-0.4375 -> 138465.61 | K45: =F45-J45 -> 784641.39
A46: Ambulance | B46: 1529173 | C46: 0 | D46: 0 | E46: 0 | F46: =B46+C46-E46 -> 1529173 | G46: 0.15 | H46: =F46*G46 -> 229375.95 | I46: =(D46*G46)/2 -> 0 | J46: =(+H46)+-0.232274999842048 -> 229375.72 | K46: =F46-J46 -> 1299797.3
A47: Electric auto | B47: 169425 | C47: 0 | D47: 0 | F47: =B47+C47-E47 -> 169425 | G47: 0.15 | H47: =F47*G47 -> 25413.75 | I47: =(D47*G47)/2 -> 0 | J47: =(+H47)+0.299999999988358 -> 25414.05 | K47: =F47-J47 -> 144010.95
A48: KL32T1000 Tata nexon | B48: 1390090 | C48: 0 | F48: =B48+C48-E48 -> 1390090 | G48: 0.15 | H48: =F48*G48 -> 208513.5 | I48: =(D48*G48)/2 -> 0 | J48: =(+H48)+0 -> 208513.5 | K48: 1181576
...

Sheet Sheet9
C2: 2024-25
A4: PROVIDENT FUND
A6: for the month of | C6: employers share | F6: employees share | I6: total amount paid | L6: paid on (date)
A8: 45383 | C8: 175315 | F8: 202045 | I8: =C8+F8 -> 377360 | L8: 45425
A10: may | C10: 174068 | F10: 201449 | I10: =C10+F10 -> 375517 | L10: 45456
A12: june | C12: 171246 | F12: 199346 | I12: =C12+F12 -> 370592 | L12: 45485
A14: july | C14: 177301 | F14: 206674 | I14: =C14+F14 -> 383975 | L14: 45516
A16: august | C16: 176232 | F16: 209136 | I16: =C16+F16 -> 385368 | L16: 45547
A18: septemb | C18: 173530 | F18: 203021 | I18: =C18+F18 -> 376551 | L18: 45579
A20: oct | C20: 171392 | F20: 199630 | I20: =C20+F20 -> 371022 | L20: 45609
A22: nov | C22: 170423 | F22: 197425 | I22: =C22+F22 -> 367848 | L22: 45635
A24: dec | C24: 166538 | F24: 192530 | I24: =C24+F24 -> 359068 | L24: 45301
A26: 45658 | C26: 169277 | F26: 194950 | I26: =C26+F26 -> 364227 | L26: 45702
A28: feb | C28: 165998 | F28: 193574 | I28: =C28+F28 -> 359572 | L28: 45730
A30: 45717 | C30: 166184 | F30: 194998 | I30: =C30+F30 -> 361182 | L30: 45758
C32: =SUM(C8:C31) -> 2057504 | F32: =SUM(F8:F31) -> 2394778 | I32: =C32+F32 -> 4452282
C35: 2024-25
A37: EMPLOYEES STATE INSURANCE
A39: for the month of | C39: employers share | F39: employees share | I39: total amount paid | L39: paid on (date)
A41: 45383 | C41: 44258 | F41: 10255 | I41: =C41+F41 -> 54513 | L41: 45427
A43: may | C43: 45418 | F43: 10520 | I43: =C43+F43 -> 55938 | L43: 45454
A45: june | C45: 45850 | F45: 10621 | I45: =C45+F45 -> 56471 | L45: 45485
A47: july | C47: 46109 | F47: 10681 | I47: =C47+F47 -> 56790 | L47: 45517
A49: august | C49: 46151 | F49: 10688 | I49: =C49+F49 -> 56839 | L49: 45548
A51: septemb | C51: 46850 | F51: 10845 | I51: =C51+F51 -> 57695 | L51: 45579
A53: oct | C53: 29274 | F53: 6786 | I53: =C53+F53 -> 36060 | L53: 45609
A55: nov | C55: 28811 | F55: 6674 | I55: =C55+F55 -> 35485 | L55: 45639
A57: dec | C57: 39398 | F57: 9131 | I57: =C57+F57 -> 48529 | L57: 45306
A59: 45658 | C59: 39523 | F59: 9159 | I59: =C59+F59 -> 48682 | L59: 45702
A61: feb | C61: 40656 | F61: 9424 | I61: =C61+F61 -> 50080 | L61: 45730
A63: 45717 | C63: 42332 | F63: 9807 | I63: =C63+F63 -> 52139 | L63: 45758
C66: =SUM(C41:C65) -> 494630 | F66: =SUM(F41:F65) -> 114591 | I66: =SUM(I41:I65) -> 609221

Sheet Sheet10

Sheet Sheet11

Sheet Sheet6

Sheet Sheet8

Sheet Sheet12

Sheet Sheet14
